BEGIN:VCALENDAR
VERSION:2.0
PRODID:-//SEIU 509 - ECPv6.15.20//NONSGML v1.0//EN
CALSCALE:GREGORIAN
METHOD:PUBLISH
X-ORIGINAL-URL:https://www.seiu509.org
X-WR-CALDESC:Events for SEIU 509
REFRESH-INTERVAL;VALUE=DURATION:PT1H
X-Robots-Tag:noindex
X-PUBLISHED-TTL:PT1H
BEGIN:VTIMEZONE
TZID:America/New_York
BEGIN:DAYLIGHT
TZOFFSETFROM:-0500
TZOFFSETTO:-0400
TZNAME:EDT
DTSTART:20280312T070000
END:DAYLIGHT
BEGIN:STANDARD
TZOFFSETFROM:-0400
TZOFFSETTO:-0500
TZNAME:EST
DTSTART:20281105T060000
END:STANDARD
BEGIN:DAYLIGHT
TZOFFSETFROM:-0500
TZOFFSETTO:-0400
TZNAME:EDT
DTSTART:20290311T070000
END:DAYLIGHT
BEGIN:STANDARD
TZOFFSETFROM:-0400
TZOFFSETTO:-0500
TZNAME:EST
DTSTART:20291104T060000
END:STANDARD
BEGIN:DAYLIGHT
TZOFFSETFROM:-0500
TZOFFSETTO:-0400
TZNAME:EDT
DTSTART:20300310T070000
END:DAYLIGHT
BEGIN:STANDARD
TZOFFSETFROM:-0400
TZOFFSETTO:-0500
TZNAME:EST
DTSTART:20301103T060000
END:STANDARD
END:VTIMEZONE
BEGIN:VEVENT
DTSTART;TZID=America/New_York:20290116T180000
DTEND;TZID=America/New_York:20290116T200000
DTSTAMP:20260421T125901
CREATED:20250605T165719Z
LAST-MODIFIED:20250605T165722Z
UID:10000710-1863280800-1863288000@www.seiu509.org
SUMMARY:DCF Chapter Board Meeting
DESCRIPTION:For more information\, please contact DCF Chapter President Ethel Everett: dcf@seiu509.org
URL:https://www.seiu509.org/event/dcf-chapter-board-meeting-2/2029-01-16/
LOCATION:Virtual
END:VEVENT
BEGIN:VEVENT
DTSTART;TZID=America/New_York:20290117T180000
DTEND;TZID=America/New_York:20290117T200000
DTSTAMP:20260421T125901
CREATED:20250327T234930Z
LAST-MODIFIED:20250327T234930Z
UID:10000351-1863367200-1863374400@www.seiu509.org
SUMMARY:DDS Chapter Board Meeting
DESCRIPTION:For more information\, please contact DDS Chapter President Tina Simmerman: dds@seiu509.org
URL:https://www.seiu509.org/event/dds-chapter-board-meeting/2029-01-17/
LOCATION:Virtual
END:VEVENT
BEGIN:VEVENT
DTSTART;TZID=America/New_York:20290117T183000
DTEND;TZID=America/New_York:20290117T200000
DTSTAMP:20260421T125901
CREATED:20250327T224346Z
LAST-MODIFIED:20250327T225429Z
UID:10000171-1863369000-1863374400@www.seiu509.org
SUMMARY:MassHealth Chapter Board Meeting
DESCRIPTION:For more information\, please contact MassHealth Chapter President Christopher Baratz: masshealth@seiu509.org
URL:https://www.seiu509.org/event/masshealth-chapter-board-meeting/2029-01-17/
LOCATION:Virtual
END:VEVENT
BEGIN:VEVENT
DTSTART;TZID=America/New_York:20290123T180000
DTEND;TZID=America/New_York:20290123T193000
DTSTAMP:20260421T125901
CREATED:20250327T235313Z
LAST-MODIFIED:20250327T235313Z
UID:10000411-1863885600-1863891000@www.seiu509.org
SUMMARY:DTA Chapter Board Meeting
DESCRIPTION:For more information\, please contact DTA Chapter President Jamie Poudrier: dta@seiu509.org
URL:https://www.seiu509.org/event/dta-chapter-board-meeting/2029-01-23/
LOCATION:Virtual
END:VEVENT
BEGIN:VEVENT
DTSTART;TZID=America/New_York:20290124T173000
DTEND;TZID=America/New_York:20290124T193000
DTSTAMP:20260421T125901
CREATED:20250327T224900Z
LAST-MODIFIED:20250327T225404Z
UID:10000231-1863970200-1863977400@www.seiu509.org
SUMMARY:DOR Chapter Board Meeting
DESCRIPTION:For more information\, please contact DOR Chapter President Amy Meinert: dor@seiu509.org
URL:https://www.seiu509.org/event/dor-chapter-board-meeting/2029-01-24/
LOCATION:Virtual
END:VEVENT
BEGIN:VEVENT
DTSTART;TZID=America/New_York:20290130T170000
DTEND;TZID=America/New_York:20290130T180000
DTSTAMP:20260421T125901
CREATED:20250327T222912Z
LAST-MODIFIED:20250327T225333Z
UID:10000110-1864486800-1864490400@www.seiu509.org
SUMMARY:DEEC Chapter Board Meeting
DESCRIPTION:For more information\, please contact DEEC Chapter President Fernando Lazu: eec@seiu509.org
URL:https://www.seiu509.org/event/deec-chapter-board-meeting/2029-01-30/
LOCATION:Local 509 Office\, 293 Boston Post Rd West\, 4th Floor\, Marlborough\, MA\, 01752
END:VEVENT
BEGIN:VEVENT
DTSTART;TZID=America/New_York:20290206T180000
DTEND;TZID=America/New_York:20290206T190000
DTSTAMP:20260421T125901
CREATED:20250328T143352Z
LAST-MODIFIED:20250328T143352Z
UID:10000652-1865095200-1865098800@www.seiu509.org
SUMMARY:CCJ Chapter Board Meeting
DESCRIPTION:For more information\, please contact CCJ Chapter President Meg Dailey: mdailey-ccj@outlook.com
URL:https://www.seiu509.org/event/ccj-chapter-board-meeting/2029-02-06/
LOCATION:Virtual
END:VEVENT
BEGIN:VEVENT
DTSTART;TZID=America/New_York:20290207T180000
DTEND;TZID=America/New_York:20290207T200000
DTSTAMP:20260421T125901
CREATED:20250328T000830Z
LAST-MODIFIED:20250430T215028Z
UID:10000532-1865181600-1865188800@www.seiu509.org
SUMMARY:COPE Meeting
DESCRIPTION:For questions\, please contact COPE Representative Orlando Peña at opena@seiu509.org or register here for the Zoom link.
URL:https://www.seiu509.org/event/cope-meeting/2029-02-07/
LOCATION:Virtual
END:VEVENT
BEGIN:VEVENT
DTSTART;TZID=America/New_York:20290213T180000
DTEND;TZID=America/New_York:20290213T200000
DTSTAMP:20260421T125901
CREATED:20250327T222229Z
LAST-MODIFIED:20250327T222229Z
UID:10000051-1865700000-1865707200@www.seiu509.org
SUMMARY:Joint Executive Board Meeting
DESCRIPTION:For more information\, please contact Jenny Bauer: jbauer@seiu509.org
URL:https://www.seiu509.org/event/joint-executive-board-meeting/2029-02-13/
LOCATION:Local 509 Office\, 293 Boston Post Rd West\, 4th Floor\, Marlborough\, MA\, 01752
END:VEVENT
BEGIN:VEVENT
DTSTART;TZID=America/New_York:20290220T180000
DTEND;TZID=America/New_York:20290220T200000
DTSTAMP:20260421T125901
CREATED:20250605T165719Z
LAST-MODIFIED:20250605T165722Z
UID:10000711-1866304800-1866312000@www.seiu509.org
SUMMARY:DCF Chapter Board Meeting
DESCRIPTION:For more information\, please contact DCF Chapter President Ethel Everett: dcf@seiu509.org
URL:https://www.seiu509.org/event/dcf-chapter-board-meeting-2/2029-02-20/
LOCATION:Virtual
END:VEVENT
BEGIN:VEVENT
DTSTART;TZID=America/New_York:20290221T180000
DTEND;TZID=America/New_York:20290221T200000
DTSTAMP:20260421T125901
CREATED:20250327T234930Z
LAST-MODIFIED:20250327T234930Z
UID:10000352-1866391200-1866398400@www.seiu509.org
SUMMARY:DDS Chapter Board Meeting
DESCRIPTION:For more information\, please contact DDS Chapter President Tina Simmerman: dds@seiu509.org
URL:https://www.seiu509.org/event/dds-chapter-board-meeting/2029-02-21/
LOCATION:Virtual
END:VEVENT
BEGIN:VEVENT
DTSTART;TZID=America/New_York:20290221T183000
DTEND;TZID=America/New_York:20290221T200000
DTSTAMP:20260421T125901
CREATED:20250327T224346Z
LAST-MODIFIED:20250327T225429Z
UID:10000172-1866393000-1866398400@www.seiu509.org
SUMMARY:MassHealth Chapter Board Meeting
DESCRIPTION:For more information\, please contact MassHealth Chapter President Christopher Baratz: masshealth@seiu509.org
URL:https://www.seiu509.org/event/masshealth-chapter-board-meeting/2029-02-21/
LOCATION:Virtual
END:VEVENT
BEGIN:VEVENT
DTSTART;TZID=America/New_York:20290227T170000
DTEND;TZID=America/New_York:20290227T180000
DTSTAMP:20260421T125901
CREATED:20250327T222912Z
LAST-MODIFIED:20250327T225333Z
UID:10000111-1866906000-1866909600@www.seiu509.org
SUMMARY:DEEC Chapter Board Meeting
DESCRIPTION:For more information\, please contact DEEC Chapter President Fernando Lazu: eec@seiu509.org
URL:https://www.seiu509.org/event/deec-chapter-board-meeting/2029-02-27/
LOCATION:Local 509 Office\, 293 Boston Post Rd West\, 4th Floor\, Marlborough\, MA\, 01752
END:VEVENT
BEGIN:VEVENT
DTSTART;TZID=America/New_York:20290227T180000
DTEND;TZID=America/New_York:20290227T193000
DTSTAMP:20260421T125901
CREATED:20250327T235313Z
LAST-MODIFIED:20250327T235313Z
UID:10000412-1866909600-1866915000@www.seiu509.org
SUMMARY:DTA Chapter Board Meeting
DESCRIPTION:For more information\, please contact DTA Chapter President Jamie Poudrier: dta@seiu509.org
URL:https://www.seiu509.org/event/dta-chapter-board-meeting/2029-02-27/
LOCATION:Virtual
END:VEVENT
BEGIN:VEVENT
DTSTART;TZID=America/New_York:20290228T173000
DTEND;TZID=America/New_York:20290228T193000
DTSTAMP:20260421T125901
CREATED:20250327T224900Z
LAST-MODIFIED:20250327T225404Z
UID:10000232-1866994200-1867001400@www.seiu509.org
SUMMARY:DOR Chapter Board Meeting
DESCRIPTION:For more information\, please contact DOR Chapter President Amy Meinert: dor@seiu509.org
URL:https://www.seiu509.org/event/dor-chapter-board-meeting/2029-02-28/
LOCATION:Virtual
END:VEVENT
BEGIN:VEVENT
DTSTART;TZID=America/New_York:20290306T180000
DTEND;TZID=America/New_York:20290306T190000
DTSTAMP:20260421T125901
CREATED:20250328T143352Z
LAST-MODIFIED:20250328T143352Z
UID:10000653-1867514400-1867518000@www.seiu509.org
SUMMARY:CCJ Chapter Board Meeting
DESCRIPTION:For more information\, please contact CCJ Chapter President Meg Dailey: mdailey-ccj@outlook.com
URL:https://www.seiu509.org/event/ccj-chapter-board-meeting/2029-03-06/
LOCATION:Virtual
END:VEVENT
BEGIN:VEVENT
DTSTART;TZID=America/New_York:20290307T180000
DTEND;TZID=America/New_York:20290307T200000
DTSTAMP:20260421T125901
CREATED:20250328T000830Z
LAST-MODIFIED:20250430T215028Z
UID:10000533-1867600800-1867608000@www.seiu509.org
SUMMARY:COPE Meeting
DESCRIPTION:For questions\, please contact COPE Representative Orlando Peña at opena@seiu509.org or register here for the Zoom link.
URL:https://www.seiu509.org/event/cope-meeting/2029-03-07/
LOCATION:Virtual
END:VEVENT
BEGIN:VEVENT
DTSTART;TZID=America/New_York:20290313T180000
DTEND;TZID=America/New_York:20290313T200000
DTSTAMP:20260421T125901
CREATED:20250327T222229Z
LAST-MODIFIED:20250327T222229Z
UID:10000052-1868119200-1868126400@www.seiu509.org
SUMMARY:Joint Executive Board Meeting
DESCRIPTION:For more information\, please contact Jenny Bauer: jbauer@seiu509.org
URL:https://www.seiu509.org/event/joint-executive-board-meeting/2029-03-13/
LOCATION:Local 509 Office\, 293 Boston Post Rd West\, 4th Floor\, Marlborough\, MA\, 01752
END:VEVENT
BEGIN:VEVENT
DTSTART;TZID=America/New_York:20290320T180000
DTEND;TZID=America/New_York:20290320T200000
DTSTAMP:20260421T125901
CREATED:20250605T165719Z
LAST-MODIFIED:20250605T165722Z
UID:10000712-1868724000-1868731200@www.seiu509.org
SUMMARY:DCF Chapter Board Meeting
DESCRIPTION:For more information\, please contact DCF Chapter President Ethel Everett: dcf@seiu509.org
URL:https://www.seiu509.org/event/dcf-chapter-board-meeting-2/2029-03-20/
LOCATION:Virtual
END:VEVENT
BEGIN:VEVENT
DTSTART;TZID=America/New_York:20290321T180000
DTEND;TZID=America/New_York:20290321T200000
DTSTAMP:20260421T125901
CREATED:20250327T234930Z
LAST-MODIFIED:20250327T234930Z
UID:10000353-1868810400-1868817600@www.seiu509.org
SUMMARY:DDS Chapter Board Meeting
DESCRIPTION:For more information\, please contact DDS Chapter President Tina Simmerman: dds@seiu509.org
URL:https://www.seiu509.org/event/dds-chapter-board-meeting/2029-03-21/
LOCATION:Virtual
END:VEVENT
BEGIN:VEVENT
DTSTART;TZID=America/New_York:20290321T183000
DTEND;TZID=America/New_York:20290321T200000
DTSTAMP:20260421T125901
CREATED:20250327T224346Z
LAST-MODIFIED:20250327T225429Z
UID:10000173-1868812200-1868817600@www.seiu509.org
SUMMARY:MassHealth Chapter Board Meeting
DESCRIPTION:For more information\, please contact MassHealth Chapter President Christopher Baratz: masshealth@seiu509.org
URL:https://www.seiu509.org/event/masshealth-chapter-board-meeting/2029-03-21/
LOCATION:Virtual
END:VEVENT
BEGIN:VEVENT
DTSTART;TZID=America/New_York:20290327T170000
DTEND;TZID=America/New_York:20290327T180000
DTSTAMP:20260421T125901
CREATED:20250327T222912Z
LAST-MODIFIED:20250327T225333Z
UID:10000112-1869325200-1869328800@www.seiu509.org
SUMMARY:DEEC Chapter Board Meeting
DESCRIPTION:For more information\, please contact DEEC Chapter President Fernando Lazu: eec@seiu509.org
URL:https://www.seiu509.org/event/deec-chapter-board-meeting/2029-03-27/
LOCATION:Local 509 Office\, 293 Boston Post Rd West\, 4th Floor\, Marlborough\, MA\, 01752
END:VEVENT
BEGIN:VEVENT
DTSTART;TZID=America/New_York:20290327T180000
DTEND;TZID=America/New_York:20290327T193000
DTSTAMP:20260421T125901
CREATED:20250327T235313Z
LAST-MODIFIED:20250327T235313Z
UID:10000413-1869328800-1869334200@www.seiu509.org
SUMMARY:DTA Chapter Board Meeting
DESCRIPTION:For more information\, please contact DTA Chapter President Jamie Poudrier: dta@seiu509.org
URL:https://www.seiu509.org/event/dta-chapter-board-meeting/2029-03-27/
LOCATION:Virtual
END:VEVENT
BEGIN:VEVENT
DTSTART;TZID=America/New_York:20290328T173000
DTEND;TZID=America/New_York:20290328T193000
DTSTAMP:20260421T125901
CREATED:20250327T224900Z
LAST-MODIFIED:20250327T225404Z
UID:10000233-1869413400-1869420600@www.seiu509.org
SUMMARY:DOR Chapter Board Meeting
DESCRIPTION:For more information\, please contact DOR Chapter President Amy Meinert: dor@seiu509.org
URL:https://www.seiu509.org/event/dor-chapter-board-meeting/2029-03-28/
LOCATION:Virtual
END:VEVENT
BEGIN:VEVENT
DTSTART;TZID=America/New_York:20290403T180000
DTEND;TZID=America/New_York:20290403T190000
DTSTAMP:20260421T125901
CREATED:20250328T143352Z
LAST-MODIFIED:20250328T143352Z
UID:10000654-1869933600-1869937200@www.seiu509.org
SUMMARY:CCJ Chapter Board Meeting
DESCRIPTION:For more information\, please contact CCJ Chapter President Meg Dailey: mdailey-ccj@outlook.com
URL:https://www.seiu509.org/event/ccj-chapter-board-meeting/2029-04-03/
LOCATION:Virtual
END:VEVENT
BEGIN:VEVENT
DTSTART;TZID=America/New_York:20290404T180000
DTEND;TZID=America/New_York:20290404T200000
DTSTAMP:20260421T125901
CREATED:20250328T000830Z
LAST-MODIFIED:20250430T215028Z
UID:10000534-1870020000-1870027200@www.seiu509.org
SUMMARY:COPE Meeting
DESCRIPTION:For questions\, please contact COPE Representative Orlando Peña at opena@seiu509.org or register here for the Zoom link.
URL:https://www.seiu509.org/event/cope-meeting/2029-04-04/
LOCATION:Virtual
END:VEVENT
BEGIN:VEVENT
DTSTART;TZID=America/New_York:20290410T180000
DTEND;TZID=America/New_York:20290410T200000
DTSTAMP:20260421T125901
CREATED:20250327T222229Z
LAST-MODIFIED:20250327T222229Z
UID:10000053-1870538400-1870545600@www.seiu509.org
SUMMARY:Joint Executive Board Meeting
DESCRIPTION:For more information\, please contact Jenny Bauer: jbauer@seiu509.org
URL:https://www.seiu509.org/event/joint-executive-board-meeting/2029-04-10/
LOCATION:Local 509 Office\, 293 Boston Post Rd West\, 4th Floor\, Marlborough\, MA\, 01752
END:VEVENT
BEGIN:VEVENT
DTSTART;TZID=America/New_York:20290417T180000
DTEND;TZID=America/New_York:20290417T200000
DTSTAMP:20260421T125901
CREATED:20250605T165719Z
LAST-MODIFIED:20250605T165722Z
UID:10000713-1871143200-1871150400@www.seiu509.org
SUMMARY:DCF Chapter Board Meeting
DESCRIPTION:For more information\, please contact DCF Chapter President Ethel Everett: dcf@seiu509.org
URL:https://www.seiu509.org/event/dcf-chapter-board-meeting-2/2029-04-17/
LOCATION:Virtual
END:VEVENT
BEGIN:VEVENT
DTSTART;TZID=America/New_York:20290418T180000
DTEND;TZID=America/New_York:20290418T200000
DTSTAMP:20260421T125901
CREATED:20250327T234930Z
LAST-MODIFIED:20250327T234930Z
UID:10000354-1871229600-1871236800@www.seiu509.org
SUMMARY:DDS Chapter Board Meeting
DESCRIPTION:For more information\, please contact DDS Chapter President Tina Simmerman: dds@seiu509.org
URL:https://www.seiu509.org/event/dds-chapter-board-meeting/2029-04-18/
LOCATION:Virtual
END:VEVENT
BEGIN:VEVENT
DTSTART;TZID=America/New_York:20290418T183000
DTEND;TZID=America/New_York:20290418T200000
DTSTAMP:20260421T125901
CREATED:20250327T224346Z
LAST-MODIFIED:20250327T225429Z
UID:10000174-1871231400-1871236800@www.seiu509.org
SUMMARY:MassHealth Chapter Board Meeting
DESCRIPTION:For more information\, please contact MassHealth Chapter President Christopher Baratz: masshealth@seiu509.org
URL:https://www.seiu509.org/event/masshealth-chapter-board-meeting/2029-04-18/
LOCATION:Virtual
END:VEVENT
END:VCALENDAR