BEGIN:VCALENDAR
VERSION:2.0
PRODID:-//SEIU 509 - ECPv6.15.20//NONSGML v1.0//EN
CALSCALE:GREGORIAN
METHOD:PUBLISH
X-WR-CALNAME:SEIU 509
X-ORIGINAL-URL:https://www.seiu509.org
X-WR-CALDESC:Events for SEIU 509
REFRESH-INTERVAL;VALUE=DURATION:PT1H
X-Robots-Tag:noindex
X-PUBLISHED-TTL:PT1H
BEGIN:VTIMEZONE
TZID:America/New_York
BEGIN:DAYLIGHT
TZOFFSETFROM:-0500
TZOFFSETTO:-0400
TZNAME:EDT
DTSTART:20280312T070000
END:DAYLIGHT
BEGIN:STANDARD
TZOFFSETFROM:-0400
TZOFFSETTO:-0500
TZNAME:EST
DTSTART:20281105T060000
END:STANDARD
BEGIN:DAYLIGHT
TZOFFSETFROM:-0500
TZOFFSETTO:-0400
TZNAME:EDT
DTSTART:20290311T070000
END:DAYLIGHT
BEGIN:STANDARD
TZOFFSETFROM:-0400
TZOFFSETTO:-0500
TZNAME:EST
DTSTART:20291104T060000
END:STANDARD
BEGIN:DAYLIGHT
TZOFFSETFROM:-0500
TZOFFSETTO:-0400
TZNAME:EDT
DTSTART:20300310T070000
END:DAYLIGHT
BEGIN:STANDARD
TZOFFSETFROM:-0400
TZOFFSETTO:-0500
TZNAME:EST
DTSTART:20301103T060000
END:STANDARD
END:VTIMEZONE
BEGIN:VEVENT
DTSTART;TZID=America/New_York:20290502T180000
DTEND;TZID=America/New_York:20290502T200000
DTSTAMP:20260421T224305
CREATED:20250328T000830Z
LAST-MODIFIED:20250430T215028Z
UID:10000535-1872439200-1872446400@www.seiu509.org
SUMMARY:COPE Meeting
DESCRIPTION:For questions\, please contact COPE Representative Orlando Peña at opena@seiu509.org or register here for the Zoom link.
URL:https://www.seiu509.org/event/cope-meeting/2029-05-02/
LOCATION:Virtual
END:VEVENT
BEGIN:VEVENT
DTSTART;TZID=America/New_York:20290508T180000
DTEND;TZID=America/New_York:20290508T200000
DTSTAMP:20260421T224305
CREATED:20250327T222229Z
LAST-MODIFIED:20250327T222229Z
UID:10000054-1872957600-1872964800@www.seiu509.org
SUMMARY:Joint Executive Board Meeting
DESCRIPTION:For more information\, please contact Jenny Bauer: jbauer@seiu509.org
URL:https://www.seiu509.org/event/joint-executive-board-meeting/2029-05-08/
LOCATION:Local 509 Office\, 293 Boston Post Rd West\, 4th Floor\, Marlborough\, MA\, 01752
END:VEVENT
BEGIN:VEVENT
DTSTART;TZID=America/New_York:20290515T180000
DTEND;TZID=America/New_York:20290515T200000
DTSTAMP:20260421T224305
CREATED:20250605T165719Z
LAST-MODIFIED:20250605T165722Z
UID:10000714-1873562400-1873569600@www.seiu509.org
SUMMARY:DCF Chapter Board Meeting
DESCRIPTION:For more information\, please contact DCF Chapter President Ethel Everett: dcf@seiu509.org
URL:https://www.seiu509.org/event/dcf-chapter-board-meeting-2/2029-05-15/
LOCATION:Virtual
END:VEVENT
BEGIN:VEVENT
DTSTART;TZID=America/New_York:20290516T180000
DTEND;TZID=America/New_York:20290516T200000
DTSTAMP:20260421T224305
CREATED:20250327T234930Z
LAST-MODIFIED:20250327T234930Z
UID:10000355-1873648800-1873656000@www.seiu509.org
SUMMARY:DDS Chapter Board Meeting
DESCRIPTION:For more information\, please contact DDS Chapter President Tina Simmerman: dds@seiu509.org
URL:https://www.seiu509.org/event/dds-chapter-board-meeting/2029-05-16/
LOCATION:Virtual
END:VEVENT
BEGIN:VEVENT
DTSTART;TZID=America/New_York:20290516T183000
DTEND;TZID=America/New_York:20290516T200000
DTSTAMP:20260421T224305
CREATED:20250327T224346Z
LAST-MODIFIED:20250327T225429Z
UID:10000175-1873650600-1873656000@www.seiu509.org
SUMMARY:MassHealth Chapter Board Meeting
DESCRIPTION:For more information\, please contact MassHealth Chapter President Christopher Baratz: masshealth@seiu509.org
URL:https://www.seiu509.org/event/masshealth-chapter-board-meeting/2029-05-16/
LOCATION:Virtual
END:VEVENT
BEGIN:VEVENT
DTSTART;TZID=America/New_York:20290522T180000
DTEND;TZID=America/New_York:20290522T193000
DTSTAMP:20260421T224305
CREATED:20250327T235313Z
LAST-MODIFIED:20250327T235313Z
UID:10000415-1874167200-1874172600@www.seiu509.org
SUMMARY:DTA Chapter Board Meeting
DESCRIPTION:For more information\, please contact DTA Chapter President Jamie Poudrier: dta@seiu509.org
URL:https://www.seiu509.org/event/dta-chapter-board-meeting/2029-05-22/
LOCATION:Virtual
END:VEVENT
BEGIN:VEVENT
DTSTART;TZID=America/New_York:20290523T173000
DTEND;TZID=America/New_York:20290523T193000
DTSTAMP:20260421T224305
CREATED:20250327T224900Z
LAST-MODIFIED:20250327T225404Z
UID:10000235-1874251800-1874259000@www.seiu509.org
SUMMARY:DOR Chapter Board Meeting
DESCRIPTION:For more information\, please contact DOR Chapter President Amy Meinert: dor@seiu509.org
URL:https://www.seiu509.org/event/dor-chapter-board-meeting/2029-05-23/
LOCATION:Virtual
END:VEVENT
BEGIN:VEVENT
DTSTART;TZID=America/New_York:20290529T170000
DTEND;TZID=America/New_York:20290529T180000
DTSTAMP:20260421T224305
CREATED:20250327T222912Z
LAST-MODIFIED:20250327T225333Z
UID:10000114-1874768400-1874772000@www.seiu509.org
SUMMARY:DEEC Chapter Board Meeting
DESCRIPTION:For more information\, please contact DEEC Chapter President Fernando Lazu: eec@seiu509.org
URL:https://www.seiu509.org/event/deec-chapter-board-meeting/2029-05-29/
LOCATION:Local 509 Office\, 293 Boston Post Rd West\, 4th Floor\, Marlborough\, MA\, 01752
END:VEVENT
BEGIN:VEVENT
DTSTART;TZID=America/New_York:20290605T180000
DTEND;TZID=America/New_York:20290605T190000
DTSTAMP:20260421T224305
CREATED:20250328T143352Z
LAST-MODIFIED:20250328T143352Z
UID:10000656-1875376800-1875380400@www.seiu509.org
SUMMARY:CCJ Chapter Board Meeting
DESCRIPTION:For more information\, please contact CCJ Chapter President Meg Dailey: mdailey-ccj@outlook.com
URL:https://www.seiu509.org/event/ccj-chapter-board-meeting/2029-06-05/
LOCATION:Virtual
END:VEVENT
BEGIN:VEVENT
DTSTART;TZID=America/New_York:20290606T180000
DTEND;TZID=America/New_York:20290606T200000
DTSTAMP:20260421T224305
CREATED:20250328T000830Z
LAST-MODIFIED:20250430T215028Z
UID:10000536-1875463200-1875470400@www.seiu509.org
SUMMARY:COPE Meeting
DESCRIPTION:For questions\, please contact COPE Representative Orlando Peña at opena@seiu509.org or register here for the Zoom link.
URL:https://www.seiu509.org/event/cope-meeting/2029-06-06/
LOCATION:Virtual
END:VEVENT
BEGIN:VEVENT
DTSTART;TZID=America/New_York:20290612T180000
DTEND;TZID=America/New_York:20290612T200000
DTSTAMP:20260421T224305
CREATED:20250327T222229Z
LAST-MODIFIED:20250327T222229Z
UID:10000055-1875981600-1875988800@www.seiu509.org
SUMMARY:Joint Executive Board Meeting
DESCRIPTION:For more information\, please contact Jenny Bauer: jbauer@seiu509.org
URL:https://www.seiu509.org/event/joint-executive-board-meeting/2029-06-12/
LOCATION:Local 509 Office\, 293 Boston Post Rd West\, 4th Floor\, Marlborough\, MA\, 01752
END:VEVENT
BEGIN:VEVENT
DTSTART;TZID=America/New_York:20290619T180000
DTEND;TZID=America/New_York:20290619T200000
DTSTAMP:20260421T224305
CREATED:20250605T165719Z
LAST-MODIFIED:20250605T165722Z
UID:10000715-1876586400-1876593600@www.seiu509.org
SUMMARY:DCF Chapter Board Meeting
DESCRIPTION:For more information\, please contact DCF Chapter President Ethel Everett: dcf@seiu509.org
URL:https://www.seiu509.org/event/dcf-chapter-board-meeting-2/2029-06-19/
LOCATION:Virtual
END:VEVENT
BEGIN:VEVENT
DTSTART;TZID=America/New_York:20290620T180000
DTEND;TZID=America/New_York:20290620T200000
DTSTAMP:20260421T224305
CREATED:20250327T234930Z
LAST-MODIFIED:20250327T234930Z
UID:10000356-1876672800-1876680000@www.seiu509.org
SUMMARY:DDS Chapter Board Meeting
DESCRIPTION:For more information\, please contact DDS Chapter President Tina Simmerman: dds@seiu509.org
URL:https://www.seiu509.org/event/dds-chapter-board-meeting/2029-06-20/
LOCATION:Virtual
END:VEVENT
BEGIN:VEVENT
DTSTART;TZID=America/New_York:20290620T183000
DTEND;TZID=America/New_York:20290620T200000
DTSTAMP:20260421T224305
CREATED:20250327T224346Z
LAST-MODIFIED:20250327T225429Z
UID:10000176-1876674600-1876680000@www.seiu509.org
SUMMARY:MassHealth Chapter Board Meeting
DESCRIPTION:For more information\, please contact MassHealth Chapter President Christopher Baratz: masshealth@seiu509.org
URL:https://www.seiu509.org/event/masshealth-chapter-board-meeting/2029-06-20/
LOCATION:Virtual
END:VEVENT
BEGIN:VEVENT
DTSTART;TZID=America/New_York:20290626T170000
DTEND;TZID=America/New_York:20290626T180000
DTSTAMP:20260421T224305
CREATED:20250327T222912Z
LAST-MODIFIED:20250327T225333Z
UID:10000115-1877187600-1877191200@www.seiu509.org
SUMMARY:DEEC Chapter Board Meeting
DESCRIPTION:For more information\, please contact DEEC Chapter President Fernando Lazu: eec@seiu509.org
URL:https://www.seiu509.org/event/deec-chapter-board-meeting/2029-06-26/
LOCATION:Local 509 Office\, 293 Boston Post Rd West\, 4th Floor\, Marlborough\, MA\, 01752
END:VEVENT
BEGIN:VEVENT
DTSTART;TZID=America/New_York:20290626T180000
DTEND;TZID=America/New_York:20290626T193000
DTSTAMP:20260421T224305
CREATED:20250327T235313Z
LAST-MODIFIED:20250327T235313Z
UID:10000416-1877191200-1877196600@www.seiu509.org
SUMMARY:DTA Chapter Board Meeting
DESCRIPTION:For more information\, please contact DTA Chapter President Jamie Poudrier: dta@seiu509.org
URL:https://www.seiu509.org/event/dta-chapter-board-meeting/2029-06-26/
LOCATION:Virtual
END:VEVENT
BEGIN:VEVENT
DTSTART;TZID=America/New_York:20290627T173000
DTEND;TZID=America/New_York:20290627T193000
DTSTAMP:20260421T224305
CREATED:20250327T224900Z
LAST-MODIFIED:20250327T225404Z
UID:10000236-1877275800-1877283000@www.seiu509.org
SUMMARY:DOR Chapter Board Meeting
DESCRIPTION:For more information\, please contact DOR Chapter President Amy Meinert: dor@seiu509.org
URL:https://www.seiu509.org/event/dor-chapter-board-meeting/2029-06-27/
LOCATION:Virtual
END:VEVENT
BEGIN:VEVENT
DTSTART;TZID=America/New_York:20290703T180000
DTEND;TZID=America/New_York:20290703T190000
DTSTAMP:20260421T224305
CREATED:20250328T143352Z
LAST-MODIFIED:20250328T143352Z
UID:10000657-1877796000-1877799600@www.seiu509.org
SUMMARY:CCJ Chapter Board Meeting
DESCRIPTION:For more information\, please contact CCJ Chapter President Meg Dailey: mdailey-ccj@outlook.com
URL:https://www.seiu509.org/event/ccj-chapter-board-meeting/2029-07-03/
LOCATION:Virtual
END:VEVENT
BEGIN:VEVENT
DTSTART;TZID=America/New_York:20290704T180000
DTEND;TZID=America/New_York:20290704T200000
DTSTAMP:20260421T224305
CREATED:20250328T000830Z
LAST-MODIFIED:20250430T215028Z
UID:10000537-1877882400-1877889600@www.seiu509.org
SUMMARY:COPE Meeting
DESCRIPTION:For questions\, please contact COPE Representative Orlando Peña at opena@seiu509.org or register here for the Zoom link.
URL:https://www.seiu509.org/event/cope-meeting/2029-07-04/
LOCATION:Virtual
END:VEVENT
BEGIN:VEVENT
DTSTART;TZID=America/New_York:20290710T180000
DTEND;TZID=America/New_York:20290710T200000
DTSTAMP:20260421T224305
CREATED:20250327T222229Z
LAST-MODIFIED:20250327T222229Z
UID:10000056-1878400800-1878408000@www.seiu509.org
SUMMARY:Joint Executive Board Meeting
DESCRIPTION:For more information\, please contact Jenny Bauer: jbauer@seiu509.org
URL:https://www.seiu509.org/event/joint-executive-board-meeting/2029-07-10/
LOCATION:Local 509 Office\, 293 Boston Post Rd West\, 4th Floor\, Marlborough\, MA\, 01752
END:VEVENT
BEGIN:VEVENT
DTSTART;TZID=America/New_York:20290717T180000
DTEND;TZID=America/New_York:20290717T200000
DTSTAMP:20260421T224305
CREATED:20250605T165719Z
LAST-MODIFIED:20250605T165722Z
UID:10000716-1879005600-1879012800@www.seiu509.org
SUMMARY:DCF Chapter Board Meeting
DESCRIPTION:For more information\, please contact DCF Chapter President Ethel Everett: dcf@seiu509.org
URL:https://www.seiu509.org/event/dcf-chapter-board-meeting-2/2029-07-17/
LOCATION:Virtual
END:VEVENT
BEGIN:VEVENT
DTSTART;TZID=America/New_York:20290718T180000
DTEND;TZID=America/New_York:20290718T200000
DTSTAMP:20260421T224305
CREATED:20250327T234930Z
LAST-MODIFIED:20250327T234930Z
UID:10000357-1879092000-1879099200@www.seiu509.org
SUMMARY:DDS Chapter Board Meeting
DESCRIPTION:For more information\, please contact DDS Chapter President Tina Simmerman: dds@seiu509.org
URL:https://www.seiu509.org/event/dds-chapter-board-meeting/2029-07-18/
LOCATION:Virtual
END:VEVENT
BEGIN:VEVENT
DTSTART;TZID=America/New_York:20290718T183000
DTEND;TZID=America/New_York:20290718T200000
DTSTAMP:20260421T224305
CREATED:20250327T224346Z
LAST-MODIFIED:20250327T225429Z
UID:10000177-1879093800-1879099200@www.seiu509.org
SUMMARY:MassHealth Chapter Board Meeting
DESCRIPTION:For more information\, please contact MassHealth Chapter President Christopher Baratz: masshealth@seiu509.org
URL:https://www.seiu509.org/event/masshealth-chapter-board-meeting/2029-07-18/
LOCATION:Virtual
END:VEVENT
BEGIN:VEVENT
DTSTART;TZID=America/New_York:20290724T180000
DTEND;TZID=America/New_York:20290724T193000
DTSTAMP:20260421T224305
CREATED:20250327T235313Z
LAST-MODIFIED:20250327T235313Z
UID:10000417-1879610400-1879615800@www.seiu509.org
SUMMARY:DTA Chapter Board Meeting
DESCRIPTION:For more information\, please contact DTA Chapter President Jamie Poudrier: dta@seiu509.org
URL:https://www.seiu509.org/event/dta-chapter-board-meeting/2029-07-24/
LOCATION:Virtual
END:VEVENT
BEGIN:VEVENT
DTSTART;TZID=America/New_York:20290725T173000
DTEND;TZID=America/New_York:20290725T193000
DTSTAMP:20260421T224305
CREATED:20250327T224900Z
LAST-MODIFIED:20250327T225404Z
UID:10000237-1879695000-1879702200@www.seiu509.org
SUMMARY:DOR Chapter Board Meeting
DESCRIPTION:For more information\, please contact DOR Chapter President Amy Meinert: dor@seiu509.org
URL:https://www.seiu509.org/event/dor-chapter-board-meeting/2029-07-25/
LOCATION:Virtual
END:VEVENT
BEGIN:VEVENT
DTSTART;TZID=America/New_York:20290731T170000
DTEND;TZID=America/New_York:20290731T180000
DTSTAMP:20260421T224305
CREATED:20250327T222912Z
LAST-MODIFIED:20250327T225333Z
UID:10000116-1880211600-1880215200@www.seiu509.org
SUMMARY:DEEC Chapter Board Meeting
DESCRIPTION:For more information\, please contact DEEC Chapter President Fernando Lazu: eec@seiu509.org
URL:https://www.seiu509.org/event/deec-chapter-board-meeting/2029-07-31/
LOCATION:Local 509 Office\, 293 Boston Post Rd West\, 4th Floor\, Marlborough\, MA\, 01752
END:VEVENT
BEGIN:VEVENT
DTSTART;TZID=America/New_York:20290801T180000
DTEND;TZID=America/New_York:20290801T200000
DTSTAMP:20260421T224305
CREATED:20250328T000830Z
LAST-MODIFIED:20250430T215028Z
UID:10000538-1880301600-1880308800@www.seiu509.org
SUMMARY:COPE Meeting
DESCRIPTION:For questions\, please contact COPE Representative Orlando Peña at opena@seiu509.org or register here for the Zoom link.
URL:https://www.seiu509.org/event/cope-meeting/2029-08-01/
LOCATION:Virtual
END:VEVENT
BEGIN:VEVENT
DTSTART;TZID=America/New_York:20290807T180000
DTEND;TZID=America/New_York:20290807T190000
DTSTAMP:20260421T224305
CREATED:20250328T143352Z
LAST-MODIFIED:20250328T143352Z
UID:10000658-1880820000-1880823600@www.seiu509.org
SUMMARY:CCJ Chapter Board Meeting
DESCRIPTION:For more information\, please contact CCJ Chapter President Meg Dailey: mdailey-ccj@outlook.com
URL:https://www.seiu509.org/event/ccj-chapter-board-meeting/2029-08-07/
LOCATION:Virtual
END:VEVENT
BEGIN:VEVENT
DTSTART;TZID=America/New_York:20290814T180000
DTEND;TZID=America/New_York:20290814T200000
DTSTAMP:20260421T224305
CREATED:20250327T222229Z
LAST-MODIFIED:20250327T222229Z
UID:10000057-1881424800-1881432000@www.seiu509.org
SUMMARY:Joint Executive Board Meeting
DESCRIPTION:For more information\, please contact Jenny Bauer: jbauer@seiu509.org
URL:https://www.seiu509.org/event/joint-executive-board-meeting/2029-08-14/
LOCATION:Local 509 Office\, 293 Boston Post Rd West\, 4th Floor\, Marlborough\, MA\, 01752
END:VEVENT
BEGIN:VEVENT
DTSTART;TZID=America/New_York:20290815T180000
DTEND;TZID=America/New_York:20290815T200000
DTSTAMP:20260421T224305
CREATED:20250327T234930Z
LAST-MODIFIED:20250327T234930Z
UID:10000358-1881511200-1881518400@www.seiu509.org
SUMMARY:DDS Chapter Board Meeting
DESCRIPTION:For more information\, please contact DDS Chapter President Tina Simmerman: dds@seiu509.org
URL:https://www.seiu509.org/event/dds-chapter-board-meeting/2029-08-15/
LOCATION:Virtual
END:VEVENT
END:VCALENDAR