BEGIN:VCALENDAR
VERSION:2.0
PRODID:-//SEIU 509 - ECPv6.15.20//NONSGML v1.0//EN
CALSCALE:GREGORIAN
METHOD:PUBLISH
X-WR-CALNAME:SEIU 509
X-ORIGINAL-URL:https://www.seiu509.org
X-WR-CALDESC:Events for SEIU 509
REFRESH-INTERVAL;VALUE=DURATION:PT1H
X-Robots-Tag:noindex
X-PUBLISHED-TTL:PT1H
BEGIN:VTIMEZONE
TZID:America/New_York
BEGIN:DAYLIGHT
TZOFFSETFROM:-0500
TZOFFSETTO:-0400
TZNAME:EDT
DTSTART:20250309T070000
END:DAYLIGHT
BEGIN:STANDARD
TZOFFSETFROM:-0400
TZOFFSETTO:-0500
TZNAME:EST
DTSTART:20251102T060000
END:STANDARD
BEGIN:DAYLIGHT
TZOFFSETFROM:-0500
TZOFFSETTO:-0400
TZNAME:EDT
DTSTART:20260308T070000
END:DAYLIGHT
BEGIN:STANDARD
TZOFFSETFROM:-0400
TZOFFSETTO:-0500
TZNAME:EST
DTSTART:20261101T060000
END:STANDARD
BEGIN:DAYLIGHT
TZOFFSETFROM:-0500
TZOFFSETTO:-0400
TZNAME:EDT
DTSTART:20270314T070000
END:DAYLIGHT
BEGIN:STANDARD
TZOFFSETFROM:-0400
TZOFFSETTO:-0500
TZNAME:EST
DTSTART:20271107T060000
END:STANDARD
BEGIN:DAYLIGHT
TZOFFSETFROM:-0500
TZOFFSETTO:-0400
TZNAME:EDT
DTSTART:20280312T070000
END:DAYLIGHT
BEGIN:STANDARD
TZOFFSETFROM:-0400
TZOFFSETTO:-0500
TZNAME:EST
DTSTART:20281105T060000
END:STANDARD
BEGIN:DAYLIGHT
TZOFFSETFROM:-0500
TZOFFSETTO:-0400
TZNAME:EDT
DTSTART:20290311T070000
END:DAYLIGHT
BEGIN:STANDARD
TZOFFSETFROM:-0400
TZOFFSETTO:-0500
TZNAME:EST
DTSTART:20291104T060000
END:STANDARD
END:VTIMEZONE
BEGIN:VEVENT
DTSTART;TZID=America/New_York:20260428T170000
DTEND;TZID=America/New_York:20260428T180000
DTSTAMP:20260420T095829
CREATED:20250327T222912Z
LAST-MODIFIED:20250327T225333Z
UID:10000077-1777395600-1777399200@www.seiu509.org
SUMMARY:DEEC Chapter Board Meeting
DESCRIPTION:For more information\, please contact DEEC Chapter President Fernando Lazu: eec@seiu509.org
URL:https://www.seiu509.org/event/deec-chapter-board-meeting/2026-04-28/
LOCATION:Local 509 Office\, 293 Boston Post Rd West\, 4th Floor\, Marlborough\, MA\, 01752
END:VEVENT
BEGIN:VEVENT
DTSTART;TZID=America/New_York:20260526T170000
DTEND;TZID=America/New_York:20260526T180000
DTSTAMP:20260420T095829
CREATED:20250327T222912Z
LAST-MODIFIED:20250327T225333Z
UID:10000078-1779814800-1779818400@www.seiu509.org
SUMMARY:DEEC Chapter Board Meeting
DESCRIPTION:For more information\, please contact DEEC Chapter President Fernando Lazu: eec@seiu509.org
URL:https://www.seiu509.org/event/deec-chapter-board-meeting/2026-05-26/
LOCATION:Local 509 Office\, 293 Boston Post Rd West\, 4th Floor\, Marlborough\, MA\, 01752
END:VEVENT
BEGIN:VEVENT
DTSTART;TZID=America/New_York:20260630T170000
DTEND;TZID=America/New_York:20260630T180000
DTSTAMP:20260420T095829
CREATED:20250327T222912Z
LAST-MODIFIED:20250327T225333Z
UID:10000079-1782838800-1782842400@www.seiu509.org
SUMMARY:DEEC Chapter Board Meeting
DESCRIPTION:For more information\, please contact DEEC Chapter President Fernando Lazu: eec@seiu509.org
URL:https://www.seiu509.org/event/deec-chapter-board-meeting/2026-06-30/
LOCATION:Local 509 Office\, 293 Boston Post Rd West\, 4th Floor\, Marlborough\, MA\, 01752
END:VEVENT
BEGIN:VEVENT
DTSTART;TZID=America/New_York:20260728T170000
DTEND;TZID=America/New_York:20260728T180000
DTSTAMP:20260420T095829
CREATED:20250327T222912Z
LAST-MODIFIED:20250327T225333Z
UID:10000080-1785258000-1785261600@www.seiu509.org
SUMMARY:DEEC Chapter Board Meeting
DESCRIPTION:For more information\, please contact DEEC Chapter President Fernando Lazu: eec@seiu509.org
URL:https://www.seiu509.org/event/deec-chapter-board-meeting/2026-07-28/
LOCATION:Local 509 Office\, 293 Boston Post Rd West\, 4th Floor\, Marlborough\, MA\, 01752
END:VEVENT
BEGIN:VEVENT
DTSTART;TZID=America/New_York:20260825T170000
DTEND;TZID=America/New_York:20260825T180000
DTSTAMP:20260420T095829
CREATED:20250327T222912Z
LAST-MODIFIED:20250327T225333Z
UID:10000081-1787677200-1787680800@www.seiu509.org
SUMMARY:DEEC Chapter Board Meeting
DESCRIPTION:For more information\, please contact DEEC Chapter President Fernando Lazu: eec@seiu509.org
URL:https://www.seiu509.org/event/deec-chapter-board-meeting/2026-08-25/
LOCATION:Local 509 Office\, 293 Boston Post Rd West\, 4th Floor\, Marlborough\, MA\, 01752
END:VEVENT
BEGIN:VEVENT
DTSTART;TZID=America/New_York:20260929T170000
DTEND;TZID=America/New_York:20260929T180000
DTSTAMP:20260420T095829
CREATED:20250327T222912Z
LAST-MODIFIED:20250327T225333Z
UID:10000082-1790701200-1790704800@www.seiu509.org
SUMMARY:DEEC Chapter Board Meeting
DESCRIPTION:For more information\, please contact DEEC Chapter President Fernando Lazu: eec@seiu509.org
URL:https://www.seiu509.org/event/deec-chapter-board-meeting/2026-09-29/
LOCATION:Local 509 Office\, 293 Boston Post Rd West\, 4th Floor\, Marlborough\, MA\, 01752
END:VEVENT
BEGIN:VEVENT
DTSTART;TZID=America/New_York:20261027T170000
DTEND;TZID=America/New_York:20261027T180000
DTSTAMP:20260420T095829
CREATED:20250327T222912Z
LAST-MODIFIED:20250327T225333Z
UID:10000083-1793120400-1793124000@www.seiu509.org
SUMMARY:DEEC Chapter Board Meeting
DESCRIPTION:For more information\, please contact DEEC Chapter President Fernando Lazu: eec@seiu509.org
URL:https://www.seiu509.org/event/deec-chapter-board-meeting/2026-10-27/
LOCATION:Local 509 Office\, 293 Boston Post Rd West\, 4th Floor\, Marlborough\, MA\, 01752
END:VEVENT
BEGIN:VEVENT
DTSTART;TZID=America/New_York:20261124T170000
DTEND;TZID=America/New_York:20261124T180000
DTSTAMP:20260420T095829
CREATED:20250327T222912Z
LAST-MODIFIED:20250327T225333Z
UID:10000084-1795539600-1795543200@www.seiu509.org
SUMMARY:DEEC Chapter Board Meeting
DESCRIPTION:For more information\, please contact DEEC Chapter President Fernando Lazu: eec@seiu509.org
URL:https://www.seiu509.org/event/deec-chapter-board-meeting/2026-11-24/
LOCATION:Local 509 Office\, 293 Boston Post Rd West\, 4th Floor\, Marlborough\, MA\, 01752
END:VEVENT
BEGIN:VEVENT
DTSTART;TZID=America/New_York:20261229T170000
DTEND;TZID=America/New_York:20261229T180000
DTSTAMP:20260420T095829
CREATED:20250327T222912Z
LAST-MODIFIED:20250327T225333Z
UID:10000085-1798563600-1798567200@www.seiu509.org
SUMMARY:DEEC Chapter Board Meeting
DESCRIPTION:For more information\, please contact DEEC Chapter President Fernando Lazu: eec@seiu509.org
URL:https://www.seiu509.org/event/deec-chapter-board-meeting/2026-12-29/
LOCATION:Local 509 Office\, 293 Boston Post Rd West\, 4th Floor\, Marlborough\, MA\, 01752
END:VEVENT
BEGIN:VEVENT
DTSTART;TZID=America/New_York:20270126T170000
DTEND;TZID=America/New_York:20270126T180000
DTSTAMP:20260420T095829
CREATED:20250327T222912Z
LAST-MODIFIED:20250327T225333Z
UID:10000086-1800982800-1800986400@www.seiu509.org
SUMMARY:DEEC Chapter Board Meeting
DESCRIPTION:For more information\, please contact DEEC Chapter President Fernando Lazu: eec@seiu509.org
URL:https://www.seiu509.org/event/deec-chapter-board-meeting/2027-01-26/
LOCATION:Local 509 Office\, 293 Boston Post Rd West\, 4th Floor\, Marlborough\, MA\, 01752
END:VEVENT
BEGIN:VEVENT
DTSTART;TZID=America/New_York:20270223T170000
DTEND;TZID=America/New_York:20270223T180000
DTSTAMP:20260420T095829
CREATED:20250327T222912Z
LAST-MODIFIED:20250327T225333Z
UID:10000087-1803402000-1803405600@www.seiu509.org
SUMMARY:DEEC Chapter Board Meeting
DESCRIPTION:For more information\, please contact DEEC Chapter President Fernando Lazu: eec@seiu509.org
URL:https://www.seiu509.org/event/deec-chapter-board-meeting/2027-02-23/
LOCATION:Local 509 Office\, 293 Boston Post Rd West\, 4th Floor\, Marlborough\, MA\, 01752
END:VEVENT
BEGIN:VEVENT
DTSTART;TZID=America/New_York:20270330T170000
DTEND;TZID=America/New_York:20270330T180000
DTSTAMP:20260420T095829
CREATED:20250327T222912Z
LAST-MODIFIED:20250327T225333Z
UID:10000088-1806426000-1806429600@www.seiu509.org
SUMMARY:DEEC Chapter Board Meeting
DESCRIPTION:For more information\, please contact DEEC Chapter President Fernando Lazu: eec@seiu509.org
URL:https://www.seiu509.org/event/deec-chapter-board-meeting/2027-03-30/
LOCATION:Local 509 Office\, 293 Boston Post Rd West\, 4th Floor\, Marlborough\, MA\, 01752
END:VEVENT
BEGIN:VEVENT
DTSTART;TZID=America/New_York:20270427T170000
DTEND;TZID=America/New_York:20270427T180000
DTSTAMP:20260420T095829
CREATED:20250327T222912Z
LAST-MODIFIED:20250327T225333Z
UID:10000089-1808845200-1808848800@www.seiu509.org
SUMMARY:DEEC Chapter Board Meeting
DESCRIPTION:For more information\, please contact DEEC Chapter President Fernando Lazu: eec@seiu509.org
URL:https://www.seiu509.org/event/deec-chapter-board-meeting/2027-04-27/
LOCATION:Local 509 Office\, 293 Boston Post Rd West\, 4th Floor\, Marlborough\, MA\, 01752
END:VEVENT
BEGIN:VEVENT
DTSTART;TZID=America/New_York:20270525T170000
DTEND;TZID=America/New_York:20270525T180000
DTSTAMP:20260420T095829
CREATED:20250327T222912Z
LAST-MODIFIED:20250327T225333Z
UID:10000090-1811264400-1811268000@www.seiu509.org
SUMMARY:DEEC Chapter Board Meeting
DESCRIPTION:For more information\, please contact DEEC Chapter President Fernando Lazu: eec@seiu509.org
URL:https://www.seiu509.org/event/deec-chapter-board-meeting/2027-05-25/
LOCATION:Local 509 Office\, 293 Boston Post Rd West\, 4th Floor\, Marlborough\, MA\, 01752
END:VEVENT
BEGIN:VEVENT
DTSTART;TZID=America/New_York:20270629T170000
DTEND;TZID=America/New_York:20270629T180000
DTSTAMP:20260420T095829
CREATED:20250327T222912Z
LAST-MODIFIED:20250327T225333Z
UID:10000091-1814288400-1814292000@www.seiu509.org
SUMMARY:DEEC Chapter Board Meeting
DESCRIPTION:For more information\, please contact DEEC Chapter President Fernando Lazu: eec@seiu509.org
URL:https://www.seiu509.org/event/deec-chapter-board-meeting/2027-06-29/
LOCATION:Local 509 Office\, 293 Boston Post Rd West\, 4th Floor\, Marlborough\, MA\, 01752
END:VEVENT
BEGIN:VEVENT
DTSTART;TZID=America/New_York:20270727T170000
DTEND;TZID=America/New_York:20270727T180000
DTSTAMP:20260420T095829
CREATED:20250327T222912Z
LAST-MODIFIED:20250327T225333Z
UID:10000092-1816707600-1816711200@www.seiu509.org
SUMMARY:DEEC Chapter Board Meeting
DESCRIPTION:For more information\, please contact DEEC Chapter President Fernando Lazu: eec@seiu509.org
URL:https://www.seiu509.org/event/deec-chapter-board-meeting/2027-07-27/
LOCATION:Local 509 Office\, 293 Boston Post Rd West\, 4th Floor\, Marlborough\, MA\, 01752
END:VEVENT
BEGIN:VEVENT
DTSTART;TZID=America/New_York:20270831T170000
DTEND;TZID=America/New_York:20270831T180000
DTSTAMP:20260420T095829
CREATED:20250327T222912Z
LAST-MODIFIED:20250327T225333Z
UID:10000093-1819731600-1819735200@www.seiu509.org
SUMMARY:DEEC Chapter Board Meeting
DESCRIPTION:For more information\, please contact DEEC Chapter President Fernando Lazu: eec@seiu509.org
URL:https://www.seiu509.org/event/deec-chapter-board-meeting/2027-08-31/
LOCATION:Local 509 Office\, 293 Boston Post Rd West\, 4th Floor\, Marlborough\, MA\, 01752
END:VEVENT
BEGIN:VEVENT
DTSTART;TZID=America/New_York:20270928T170000
DTEND;TZID=America/New_York:20270928T180000
DTSTAMP:20260420T095829
CREATED:20250327T222912Z
LAST-MODIFIED:20250327T225333Z
UID:10000094-1822150800-1822154400@www.seiu509.org
SUMMARY:DEEC Chapter Board Meeting
DESCRIPTION:For more information\, please contact DEEC Chapter President Fernando Lazu: eec@seiu509.org
URL:https://www.seiu509.org/event/deec-chapter-board-meeting/2027-09-28/
LOCATION:Local 509 Office\, 293 Boston Post Rd West\, 4th Floor\, Marlborough\, MA\, 01752
END:VEVENT
BEGIN:VEVENT
DTSTART;TZID=America/New_York:20271026T170000
DTEND;TZID=America/New_York:20271026T180000
DTSTAMP:20260420T095829
CREATED:20250327T222912Z
LAST-MODIFIED:20250327T225333Z
UID:10000095-1824570000-1824573600@www.seiu509.org
SUMMARY:DEEC Chapter Board Meeting
DESCRIPTION:For more information\, please contact DEEC Chapter President Fernando Lazu: eec@seiu509.org
URL:https://www.seiu509.org/event/deec-chapter-board-meeting/2027-10-26/
LOCATION:Local 509 Office\, 293 Boston Post Rd West\, 4th Floor\, Marlborough\, MA\, 01752
END:VEVENT
BEGIN:VEVENT
DTSTART;TZID=America/New_York:20271130T170000
DTEND;TZID=America/New_York:20271130T180000
DTSTAMP:20260420T095829
CREATED:20250327T222912Z
LAST-MODIFIED:20250327T225333Z
UID:10000096-1827594000-1827597600@www.seiu509.org
SUMMARY:DEEC Chapter Board Meeting
DESCRIPTION:For more information\, please contact DEEC Chapter President Fernando Lazu: eec@seiu509.org
URL:https://www.seiu509.org/event/deec-chapter-board-meeting/2027-11-30/
LOCATION:Local 509 Office\, 293 Boston Post Rd West\, 4th Floor\, Marlborough\, MA\, 01752
END:VEVENT
BEGIN:VEVENT
DTSTART;TZID=America/New_York:20271228T170000
DTEND;TZID=America/New_York:20271228T180000
DTSTAMP:20260420T095829
CREATED:20250327T222912Z
LAST-MODIFIED:20250327T225333Z
UID:10000097-1830013200-1830016800@www.seiu509.org
SUMMARY:DEEC Chapter Board Meeting
DESCRIPTION:For more information\, please contact DEEC Chapter President Fernando Lazu: eec@seiu509.org
URL:https://www.seiu509.org/event/deec-chapter-board-meeting/2027-12-28/
LOCATION:Local 509 Office\, 293 Boston Post Rd West\, 4th Floor\, Marlborough\, MA\, 01752
END:VEVENT
BEGIN:VEVENT
DTSTART;TZID=America/New_York:20280125T170000
DTEND;TZID=America/New_York:20280125T180000
DTSTAMP:20260420T095829
CREATED:20250327T222912Z
LAST-MODIFIED:20250327T225333Z
UID:10000098-1832432400-1832436000@www.seiu509.org
SUMMARY:DEEC Chapter Board Meeting
DESCRIPTION:For more information\, please contact DEEC Chapter President Fernando Lazu: eec@seiu509.org
URL:https://www.seiu509.org/event/deec-chapter-board-meeting/2028-01-25/
LOCATION:Local 509 Office\, 293 Boston Post Rd West\, 4th Floor\, Marlborough\, MA\, 01752
END:VEVENT
BEGIN:VEVENT
DTSTART;TZID=America/New_York:20280229T170000
DTEND;TZID=America/New_York:20280229T180000
DTSTAMP:20260420T095829
CREATED:20250327T222912Z
LAST-MODIFIED:20250327T225333Z
UID:10000099-1835456400-1835460000@www.seiu509.org
SUMMARY:DEEC Chapter Board Meeting
DESCRIPTION:For more information\, please contact DEEC Chapter President Fernando Lazu: eec@seiu509.org
URL:https://www.seiu509.org/event/deec-chapter-board-meeting/2028-02-29/
LOCATION:Local 509 Office\, 293 Boston Post Rd West\, 4th Floor\, Marlborough\, MA\, 01752
END:VEVENT
BEGIN:VEVENT
DTSTART;TZID=America/New_York:20280328T170000
DTEND;TZID=America/New_York:20280328T180000
DTSTAMP:20260420T095829
CREATED:20250327T222912Z
LAST-MODIFIED:20250327T225333Z
UID:10000100-1837875600-1837879200@www.seiu509.org
SUMMARY:DEEC Chapter Board Meeting
DESCRIPTION:For more information\, please contact DEEC Chapter President Fernando Lazu: eec@seiu509.org
URL:https://www.seiu509.org/event/deec-chapter-board-meeting/2028-03-28/
LOCATION:Local 509 Office\, 293 Boston Post Rd West\, 4th Floor\, Marlborough\, MA\, 01752
END:VEVENT
BEGIN:VEVENT
DTSTART;TZID=America/New_York:20280425T170000
DTEND;TZID=America/New_York:20280425T180000
DTSTAMP:20260420T095829
CREATED:20250327T222912Z
LAST-MODIFIED:20250327T225333Z
UID:10000101-1840294800-1840298400@www.seiu509.org
SUMMARY:DEEC Chapter Board Meeting
DESCRIPTION:For more information\, please contact DEEC Chapter President Fernando Lazu: eec@seiu509.org
URL:https://www.seiu509.org/event/deec-chapter-board-meeting/2028-04-25/
LOCATION:Local 509 Office\, 293 Boston Post Rd West\, 4th Floor\, Marlborough\, MA\, 01752
END:VEVENT
BEGIN:VEVENT
DTSTART;TZID=America/New_York:20280530T170000
DTEND;TZID=America/New_York:20280530T180000
DTSTAMP:20260420T095829
CREATED:20250327T222912Z
LAST-MODIFIED:20250327T225333Z
UID:10000102-1843318800-1843322400@www.seiu509.org
SUMMARY:DEEC Chapter Board Meeting
DESCRIPTION:For more information\, please contact DEEC Chapter President Fernando Lazu: eec@seiu509.org
URL:https://www.seiu509.org/event/deec-chapter-board-meeting/2028-05-30/
LOCATION:Local 509 Office\, 293 Boston Post Rd West\, 4th Floor\, Marlborough\, MA\, 01752
END:VEVENT
BEGIN:VEVENT
DTSTART;TZID=America/New_York:20280627T170000
DTEND;TZID=America/New_York:20280627T180000
DTSTAMP:20260420T095829
CREATED:20250327T222912Z
LAST-MODIFIED:20250327T225333Z
UID:10000103-1845738000-1845741600@www.seiu509.org
SUMMARY:DEEC Chapter Board Meeting
DESCRIPTION:For more information\, please contact DEEC Chapter President Fernando Lazu: eec@seiu509.org
URL:https://www.seiu509.org/event/deec-chapter-board-meeting/2028-06-27/
LOCATION:Local 509 Office\, 293 Boston Post Rd West\, 4th Floor\, Marlborough\, MA\, 01752
END:VEVENT
BEGIN:VEVENT
DTSTART;TZID=America/New_York:20280725T170000
DTEND;TZID=America/New_York:20280725T180000
DTSTAMP:20260420T095829
CREATED:20250327T222912Z
LAST-MODIFIED:20250327T225333Z
UID:10000104-1848157200-1848160800@www.seiu509.org
SUMMARY:DEEC Chapter Board Meeting
DESCRIPTION:For more information\, please contact DEEC Chapter President Fernando Lazu: eec@seiu509.org
URL:https://www.seiu509.org/event/deec-chapter-board-meeting/2028-07-25/
LOCATION:Local 509 Office\, 293 Boston Post Rd West\, 4th Floor\, Marlborough\, MA\, 01752
END:VEVENT
BEGIN:VEVENT
DTSTART;TZID=America/New_York:20280829T170000
DTEND;TZID=America/New_York:20280829T180000
DTSTAMP:20260420T095829
CREATED:20250327T222912Z
LAST-MODIFIED:20250327T225333Z
UID:10000105-1851181200-1851184800@www.seiu509.org
SUMMARY:DEEC Chapter Board Meeting
DESCRIPTION:For more information\, please contact DEEC Chapter President Fernando Lazu: eec@seiu509.org
URL:https://www.seiu509.org/event/deec-chapter-board-meeting/2028-08-29/
LOCATION:Local 509 Office\, 293 Boston Post Rd West\, 4th Floor\, Marlborough\, MA\, 01752
END:VEVENT
BEGIN:VEVENT
DTSTART;TZID=America/New_York:20280926T170000
DTEND;TZID=America/New_York:20280926T180000
DTSTAMP:20260420T095829
CREATED:20250327T222912Z
LAST-MODIFIED:20250327T225333Z
UID:10000106-1853600400-1853604000@www.seiu509.org
SUMMARY:DEEC Chapter Board Meeting
DESCRIPTION:For more information\, please contact DEEC Chapter President Fernando Lazu: eec@seiu509.org
URL:https://www.seiu509.org/event/deec-chapter-board-meeting/2028-09-26/
LOCATION:Local 509 Office\, 293 Boston Post Rd West\, 4th Floor\, Marlborough\, MA\, 01752
END:VEVENT
END:VCALENDAR