BEGIN:VCALENDAR
VERSION:2.0
PRODID:-//SEIU 509 - ECPv6.15.20//NONSGML v1.0//EN
CALSCALE:GREGORIAN
METHOD:PUBLISH
X-WR-CALNAME:SEIU 509
X-ORIGINAL-URL:https://www.seiu509.org
X-WR-CALDESC:Events for SEIU 509
REFRESH-INTERVAL;VALUE=DURATION:PT1H
X-Robots-Tag:noindex
X-PUBLISHED-TTL:PT1H
BEGIN:VTIMEZONE
TZID:America/New_York
BEGIN:DAYLIGHT
TZOFFSETFROM:-0500
TZOFFSETTO:-0400
TZNAME:EDT
DTSTART:20240310T070000
END:DAYLIGHT
BEGIN:STANDARD
TZOFFSETFROM:-0400
TZOFFSETTO:-0500
TZNAME:EST
DTSTART:20241103T060000
END:STANDARD
BEGIN:DAYLIGHT
TZOFFSETFROM:-0500
TZOFFSETTO:-0400
TZNAME:EDT
DTSTART:20250309T070000
END:DAYLIGHT
BEGIN:STANDARD
TZOFFSETFROM:-0400
TZOFFSETTO:-0500
TZNAME:EST
DTSTART:20251102T060000
END:STANDARD
BEGIN:DAYLIGHT
TZOFFSETFROM:-0500
TZOFFSETTO:-0400
TZNAME:EDT
DTSTART:20260308T070000
END:DAYLIGHT
BEGIN:STANDARD
TZOFFSETFROM:-0400
TZOFFSETTO:-0500
TZNAME:EST
DTSTART:20261101T060000
END:STANDARD
END:VTIMEZONE
BEGIN:VEVENT
DTSTART;TZID=America/New_York:20251014T120000
DTEND;TZID=America/New_York:20251014T130000
DTSTAMP:20260424T210141
CREATED:20251008T185143Z
LAST-MODIFIED:20251008T185508Z
UID:10000795-1760443200-1760446800@www.seiu509.org
SUMMARY:LGBTQIA+ Committee Meeting
DESCRIPTION:For more information or the Zoom link\, please contact Tina Simmerman: dds@seiu509.org or MJ Rodriguez: mjrodriguez@seiu509.org.
URL:https://www.seiu509.org/event/lgbtqia-committee-meeting/
LOCATION:Virtual
END:VEVENT
BEGIN:VEVENT
DTSTART;TZID=America/New_York:20251014T180000
DTEND;TZID=America/New_York:20251014T200000
DTSTAMP:20260424T210141
CREATED:20250327T222229Z
LAST-MODIFIED:20250327T222229Z
UID:10000011-1760464800-1760472000@www.seiu509.org
SUMMARY:Joint Executive Board Meeting
DESCRIPTION:For more information\, please contact Jenny Bauer: jbauer@seiu509.org
URL:https://www.seiu509.org/event/joint-executive-board-meeting/2025-10-14/
LOCATION:Local 509 Office\, 293 Boston Post Rd West\, 4th Floor\, Marlborough\, MA\, 01752
END:VEVENT
BEGIN:VEVENT
DTSTART;TZID=America/New_York:20251015T180000
DTEND;TZID=America/New_York:20251015T190000
DTSTAMP:20260424T210141
CREATED:20250930T175109Z
LAST-MODIFIED:20250930T175316Z
UID:10000794-1760551200-1760554800@www.seiu509.org
SUMMARY:Indigenous Peoples' Committee Meeting
DESCRIPTION:ASL and Spanish interpretation available. For the Zoom link or questions\, please email Jean Calvert- McClure at jean.calvert864@gmail.com or Heidi Freeman at heidi.seiu509@gmail.com.
URL:https://www.seiu509.org/event/indigenous-peoples-committee-meeting-2/2025-10-15/
LOCATION:Virtual
END:VEVENT
BEGIN:VEVENT
DTSTART;TZID=America/New_York:20251015T180000
DTEND;TZID=America/New_York:20251015T200000
DTSTAMP:20260424T210141
CREATED:20250327T234930Z
LAST-MODIFIED:20250327T234930Z
UID:10000312-1760551200-1760558400@www.seiu509.org
SUMMARY:DDS Chapter Board Meeting
DESCRIPTION:For more information\, please contact DDS Chapter President Tina Simmerman: dds@seiu509.org
URL:https://www.seiu509.org/event/dds-chapter-board-meeting/2025-10-15/
LOCATION:Virtual
END:VEVENT
BEGIN:VEVENT
DTSTART;TZID=America/New_York:20251015T183000
DTEND;TZID=America/New_York:20251015T200000
DTSTAMP:20260424T210141
CREATED:20250327T224346Z
LAST-MODIFIED:20250327T225429Z
UID:10000132-1760553000-1760558400@www.seiu509.org
SUMMARY:MassHealth Chapter Board Meeting
DESCRIPTION:For more information\, please contact MassHealth Chapter President Christopher Baratz: masshealth@seiu509.org
URL:https://www.seiu509.org/event/masshealth-chapter-board-meeting/2025-10-15/
LOCATION:Virtual
END:VEVENT
BEGIN:VEVENT
DTSTART;TZID=America/New_York:20251018T090000
DTEND;TZID=America/New_York:20251018T160000
DTSTAMP:20260424T210141
CREATED:20250825T221956Z
LAST-MODIFIED:20250825T221957Z
UID:10000789-1760778000-1760803200@www.seiu509.org
SUMMARY:2025 Annual Meeting
DESCRIPTION:On October 18\, join your fellow SEIU 509 union siblings at our Annual Meeting/Nominating Convention in Boston! \n\n\n\nThe Annual Meeting is an important time for us to look back on our victories and plan to continue building worker power in the coming year. Members will also have the opportunity to submit nominations or run for a vacant seat on one of our union leadership teams. \n\n\n\nInvitation with RSVP form coming soon!
URL:https://www.seiu509.org/event/2025-annual-meeting/
LOCATION:Hilton Boston Park Plaza\, 50 Park Plaza\, Boston\, Massachusetts\, 02116
END:VEVENT
END:VCALENDAR