BEGIN:VCALENDAR
VERSION:2.0
PRODID:-//SEIU 509 - ECPv6.15.20//NONSGML v1.0//EN
CALSCALE:GREGORIAN
METHOD:PUBLISH
X-WR-CALNAME:SEIU 509
X-ORIGINAL-URL:https://www.seiu509.org
X-WR-CALDESC:Events for SEIU 509
REFRESH-INTERVAL;VALUE=DURATION:PT1H
X-Robots-Tag:noindex
X-PUBLISHED-TTL:PT1H
BEGIN:VTIMEZONE
TZID:America/New_York
BEGIN:DAYLIGHT
TZOFFSETFROM:-0500
TZOFFSETTO:-0400
TZNAME:EDT
DTSTART:20250309T070000
END:DAYLIGHT
BEGIN:STANDARD
TZOFFSETFROM:-0400
TZOFFSETTO:-0500
TZNAME:EST
DTSTART:20251102T060000
END:STANDARD
BEGIN:DAYLIGHT
TZOFFSETFROM:-0500
TZOFFSETTO:-0400
TZNAME:EDT
DTSTART:20260308T070000
END:DAYLIGHT
BEGIN:STANDARD
TZOFFSETFROM:-0400
TZOFFSETTO:-0500
TZNAME:EST
DTSTART:20261101T060000
END:STANDARD
BEGIN:DAYLIGHT
TZOFFSETFROM:-0500
TZOFFSETTO:-0400
TZNAME:EDT
DTSTART:20270314T070000
END:DAYLIGHT
BEGIN:STANDARD
TZOFFSETFROM:-0400
TZOFFSETTO:-0500
TZNAME:EST
DTSTART:20271107T060000
END:STANDARD
END:VTIMEZONE
BEGIN:VEVENT
DTSTART;TZID=America/New_York:20260316T180000
DTEND;TZID=America/New_York:20260316T200000
DTSTAMP:20260419T152703
CREATED:20260113T000724Z
LAST-MODIFIED:20260113T000726Z
UID:10000798-1773684000-1773691200@www.seiu509.org
SUMMARY:FCC Chapter Board Meeting
DESCRIPTION:For more information\, please email Family Child Care President Celina Reyes: fcc@seiu509.org
URL:https://www.seiu509.org/event/fcc-chapter-board-meeting-3/
END:VEVENT
BEGIN:VEVENT
DTSTART;TZID=America/New_York:20260317T120000
DTEND;TZID=America/New_York:20260317T140000
DTSTAMP:20260419T152703
CREATED:20260113T233507Z
LAST-MODIFIED:20260113T233510Z
UID:10000809-1773748800-1773756000@www.seiu509.org
SUMMARY:DMH Chapter Board Meeting
DESCRIPTION:For more information\, please contact DMH Chapter President Jean Calvert McClure: dmh@seiu509.org \n\n\n\n(Quarterly in-person meeting at Marlborough office)
URL:https://www.seiu509.org/event/dmh-chapter-board-meeting/2026-03-17/
END:VEVENT
BEGIN:VEVENT
DTSTART;TZID=America/New_York:20260317T180000
DTEND;TZID=America/New_York:20260317T200000
DTSTAMP:20260419T152703
CREATED:20250605T165719Z
LAST-MODIFIED:20250605T165722Z
UID:10000676-1773770400-1773777600@www.seiu509.org
SUMMARY:DCF Chapter Board Meeting
DESCRIPTION:For more information\, please contact DCF Chapter President Ethel Everett: dcf@seiu509.org
URL:https://www.seiu509.org/event/dcf-chapter-board-meeting-2/2026-03-17/
LOCATION:Virtual
END:VEVENT
BEGIN:VEVENT
DTSTART;TZID=America/New_York:20260318T180000
DTEND;TZID=America/New_York:20260318T200000
DTSTAMP:20260419T152703
CREATED:20250327T234930Z
LAST-MODIFIED:20250327T234930Z
UID:10000317-1773856800-1773864000@www.seiu509.org
SUMMARY:DDS Chapter Board Meeting
DESCRIPTION:For more information\, please contact DDS Chapter President Tina Simmerman: dds@seiu509.org
URL:https://www.seiu509.org/event/dds-chapter-board-meeting/2026-03-18/
LOCATION:Virtual
END:VEVENT
BEGIN:VEVENT
DTSTART;TZID=America/New_York:20260318T183000
DTEND;TZID=America/New_York:20260318T200000
DTSTAMP:20260419T152703
CREATED:20250327T224346Z
LAST-MODIFIED:20250327T225429Z
UID:10000137-1773858600-1773864000@www.seiu509.org
SUMMARY:MassHealth Chapter Board Meeting
DESCRIPTION:For more information\, please contact MassHealth Chapter President Christopher Baratz: masshealth@seiu509.org
URL:https://www.seiu509.org/event/masshealth-chapter-board-meeting/2026-03-18/
LOCATION:Virtual
END:VEVENT
BEGIN:VEVENT
DTSTART;TZID=America/New_York:20260320T110000
DTEND;TZID=America/New_York:20260320T120000
DTSTAMP:20260419T152703
CREATED:20260313T174600Z
LAST-MODIFIED:20260313T174605Z
UID:10000823-1774004400-1774008000@www.seiu509.org
SUMMARY:Save Our State Rally
DESCRIPTION:Join Save Our State (SOS) labor and community partners on March 20 to demand Fidelity and Bank of America leave the MA High Tech Council! MHTC is making plans to gut our schools\, healthcare\, and essential services–we must fight back. \n\n\n\nLocations: \n\n\n\nBoston Fidelity Investments: 155 Congress Street\, Boston \n\n\n\nSpringfield Bank of America: 1724 Boston Road\, Springfield
URL:https://www.seiu509.org/event/save-our-state-rally/
END:VEVENT
END:VCALENDAR