BEGIN:VCALENDAR
VERSION:2.0
PRODID:-//SEIU 509 - ECPv6.15.20//NONSGML v1.0//EN
CALSCALE:GREGORIAN
METHOD:PUBLISH
X-ORIGINAL-URL:https://www.seiu509.org
X-WR-CALDESC:Events for SEIU 509
REFRESH-INTERVAL;VALUE=DURATION:PT1H
X-Robots-Tag:noindex
X-PUBLISHED-TTL:PT1H
BEGIN:VTIMEZONE
TZID:America/New_York
BEGIN:DAYLIGHT
TZOFFSETFROM:-0500
TZOFFSETTO:-0400
TZNAME:EDT
DTSTART:20250309T070000
END:DAYLIGHT
BEGIN:STANDARD
TZOFFSETFROM:-0400
TZOFFSETTO:-0500
TZNAME:EST
DTSTART:20251102T060000
END:STANDARD
BEGIN:DAYLIGHT
TZOFFSETFROM:-0500
TZOFFSETTO:-0400
TZNAME:EDT
DTSTART:20260308T070000
END:DAYLIGHT
BEGIN:STANDARD
TZOFFSETFROM:-0400
TZOFFSETTO:-0500
TZNAME:EST
DTSTART:20261101T060000
END:STANDARD
BEGIN:DAYLIGHT
TZOFFSETFROM:-0500
TZOFFSETTO:-0400
TZNAME:EDT
DTSTART:20270314T070000
END:DAYLIGHT
BEGIN:STANDARD
TZOFFSETFROM:-0400
TZOFFSETTO:-0500
TZNAME:EST
DTSTART:20271107T060000
END:STANDARD
END:VTIMEZONE
BEGIN:VEVENT
DTSTART;TZID=America/New_York:20260615T180000
DTEND;TZID=America/New_York:20260615T200000
DTSTAMP:20260423T181554
CREATED:20260113T001401Z
LAST-MODIFIED:20260113T001403Z
UID:10000801-1781546400-1781553600@www.seiu509.org
SUMMARY:FCC Chapter Board Meeting
DESCRIPTION:For more information\, please email Family Child Care President Celina Reyes: fcc@seiu509.org
URL:https://www.seiu509.org/event/fcc-chapter-board-meeting-5/2026-06-15/
END:VEVENT
BEGIN:VEVENT
DTSTART;TZID=America/New_York:20260616T120000
DTEND;TZID=America/New_York:20260616T140000
DTSTAMP:20260423T181555
CREATED:20260113T233507Z
LAST-MODIFIED:20260113T233510Z
UID:10000812-1781611200-1781618400@www.seiu509.org
SUMMARY:DMH Chapter Board Meeting
DESCRIPTION:For more information\, please contact DMH Chapter President Jean Calvert McClure: dmh@seiu509.org \n\n\n\n(Quarterly in-person meeting at Marlborough office)
URL:https://www.seiu509.org/event/dmh-chapter-board-meeting/2026-06-16/
END:VEVENT
BEGIN:VEVENT
DTSTART;TZID=America/New_York:20260616T180000
DTEND;TZID=America/New_York:20260616T200000
DTSTAMP:20260423T181555
CREATED:20250605T165719Z
LAST-MODIFIED:20250605T165722Z
UID:10000679-1781632800-1781640000@www.seiu509.org
SUMMARY:DCF Chapter Board Meeting
DESCRIPTION:For more information\, please contact DCF Chapter President Ethel Everett: dcf@seiu509.org
URL:https://www.seiu509.org/event/dcf-chapter-board-meeting-2/2026-06-16/
LOCATION:Virtual
END:VEVENT
BEGIN:VEVENT
DTSTART;TZID=America/New_York:20260617T180000
DTEND;TZID=America/New_York:20260617T200000
DTSTAMP:20260423T181555
CREATED:20250327T234930Z
LAST-MODIFIED:20250327T234930Z
UID:10000320-1781719200-1781726400@www.seiu509.org
SUMMARY:DDS Chapter Board Meeting
DESCRIPTION:For more information\, please contact DDS Chapter President Tina Simmerman: dds@seiu509.org
URL:https://www.seiu509.org/event/dds-chapter-board-meeting/2026-06-17/
LOCATION:Virtual
END:VEVENT
BEGIN:VEVENT
DTSTART;TZID=America/New_York:20260617T183000
DTEND;TZID=America/New_York:20260617T200000
DTSTAMP:20260423T181555
CREATED:20250327T224346Z
LAST-MODIFIED:20250327T225429Z
UID:10000140-1781721000-1781726400@www.seiu509.org
SUMMARY:MassHealth Chapter Board Meeting
DESCRIPTION:For more information\, please contact MassHealth Chapter President Christopher Baratz: masshealth@seiu509.org
URL:https://www.seiu509.org/event/masshealth-chapter-board-meeting/2026-06-17/
LOCATION:Virtual
END:VEVENT
END:VCALENDAR